BEGIN:VCALENDAR
VERSION:2.0
PRODID:http://www.jazzmachine.lu
X-WR-TIMEZONE:Europe/paris
BEGIN:VEVENT
DTSTART:20230511T213000
SUMMARY:Sylvain Rifflet 
LOCATION:Like A Jazz Machine - Festival Dudelange
END:VEVENT
END:VCALENDAR