BEGIN:VCALENDAR
VERSION:2.0
PRODID:http://www.jazzmachine.lu
X-WR-TIMEZONE:Europe/paris
BEGIN:VEVENT
DTSTART:20200514T200000
SUMMARY:HUMAIR BLASER KÄNZIG 
LOCATION:Like A Jazz Machine - Festival Dudelange
END:VEVENT
END:VCALENDAR