BEGIN:VCALENDAR
VERSION:2.0
PRODID:http://www.jazzmachine.lu
X-WR-TIMEZONE:Europe/paris
BEGIN:VEVENT
DTSTART:20170527T213000
SUMMARY:NIK BÄRTSCH’S MOBILE EXTENDED
LOCATION:Like A Jazz Machine - Festival Dudelange
END:VEVENT
END:VCALENDAR