BEGIN:VCALENDAR
VERSION:2.0
PRODID:http://www.jazzmachine.lu
X-WR-TIMEZONE:Europe/paris
BEGIN:VEVENT
DTSTART:20170527T200000
SUMMARY:JOACHIM KÜHN NEW TRIO feat. ENRICO RAVA
LOCATION:Like A Jazz Machine - Festival Dudelange
END:VEVENT
END:VCALENDAR