BEGIN:VCALENDAR
VERSION:2.0
PRODID:http://www.jazzmachine.lu
X-WR-TIMEZONE:Europe/paris
BEGIN:VEVENT
DTSTART:20170526T213000
SUMMARY:POL BELARDI'S FORCE
LOCATION:Like A Jazz Machine - Festival Dudelange
END:VEVENT
END:VCALENDAR