BEGIN:VCALENDAR
VERSION:2.0
PRODID:http://www.jazzmachine.lu
X-WR-TIMEZONE:Europe/paris
BEGIN:VEVENT
DTSTART:20170525T230000
SUMMARY:THE COMET IS COMING - SHABAKA HUTCHINGS
LOCATION:Like A Jazz Machine - Festival Dudelange
END:VEVENT
END:VCALENDAR