BEGIN:VCALENDAR
VERSION:2.0
PRODID:http://www.jazzmachine.lu
X-WR-TIMEZONE:Europe/paris
BEGIN:VEVENT
DTSTART:20170525T213000
SUMMARY:EXTENDED HANOI DUO - NGUYÊN LÊ + NGO HONG QUANG invite PAOLO FRESU, MIEKO MIYAZAKI ...
LOCATION:Like A Jazz Machine - Festival Dudelange
END:VEVENT
END:VCALENDAR