BEGIN:VCALENDAR
VERSION:2.0
PRODID:http://www.jazzmachine.lu
X-WR-TIMEZONE:Europe/paris
BEGIN:VEVENT
DTSTART:20170525T200000
SUMMARY:BOJAN Z.  -  artist in residence
LOCATION:Like A Jazz Machine - Festival Dudelange
END:VEVENT
END:VCALENDAR