BEGIN:VCALENDAR
VERSION:2.0
PRODID:http://www.jazzmachine.lu
X-WR-TIMEZONE:Europe/paris
BEGIN:VEVENT
DTSTART:20170528T213000
SUMMARY:IVAN PADUART + QUENTIN DUJARDIN feat. BERT JORIS, THEO DE JONG, MANU KATCHE
LOCATION:Like A Jazz Machine - Festival Dudelange
END:VEVENT
END:VCALENDAR