BEGIN:VCALENDAR
VERSION:2.0
PRODID:http://www.jazzmachine.lu
X-WR-TIMEZONE:Europe/paris
BEGIN:VEVENT
DTSTART:20170528T183000
SUMMARY:MICHEL REIS JAPAN QUARTET
LOCATION:Like A Jazz Machine - Festival Dudelange
END:VEVENT
END:VCALENDAR